BEGIN:VCALENDAR
VERSION:2.0
PRODID:-//ontrackwnc.org//NONSGML kigkonsult.se iCalcreator 2.30.10//
CALSCALE:GREGORIAN
METHOD:PUBLISH
UID:d04490af-a29b-428e-b64e-18c5087ec304
X-WR-CALDESC:Envision resilience and identify habits that encourage financi
 al wellness in this interactive and fun workshop. This is a shame-free spa
 ce to set your money intentions!\n\nSee link to sign up. Registration is r
 equired and closes 24 hours prior to start time.
X-WR-RELCALID:8ca6ad24cd80ab7b63b255d15e50d6aa
X-WR-TIMEZONE:America/New_York
BEGIN:VTIMEZONE
TZID:America/New_York
BEGIN:STANDARD
TZNAME:EST
DTSTART:20251102T020000
TZOFFSETFROM:-0400
TZOFFSETTO:-0500
RDATE:20261101T020000
END:STANDARD
BEGIN:DAYLIGHT
TZNAME:EDT
DTSTART:20260308T020000
TZOFFSETFROM:-0500
TZOFFSETTO:-0400
RDATE:20270314T020000
END:DAYLIGHT
END:VTIMEZONE
BEGIN:VEVENT
UID:ff2b183c-d069-4cfd-afc4-baee62809b12
DTSTAMP:20260422T232640Z
DESCRIPTION:Envision resilience and identify habits that encourage financia
 l wellness in this interactive and fun workshop. This is a shame-free spac
 e to set your money intentions!\n\nSee link to sign up. Registration is re
 quired and closes 24 hours prior to start time.
DTSTART;TZID=America/New_York:20260506T173000
DTEND;TZID=America/New_York:20260506T190000
LOCATION:50 S. French Broad Ave.\, Suite 222\, Asheville\, AL 28801 US
SUMMARY:Money Visioning & Goal Setting (In-person)
END:VEVENT
END:VCALENDAR
