BEGIN:VCALENDAR
VERSION:2.0
PRODID:-//ontrackwnc.org//NONSGML kigkonsult.se iCalcreator 2.30.10//
CALSCALE:GREGORIAN
METHOD:PUBLISH
UID:937cb517-bea6-465c-9ebf-6976843ec719
X-WR-CALDESC:Discover habits and strategies to build financial confidence a
 nd stability. This workshop is perfect for beginners or anyone looking to 
 get back to basics.\n\nSee link to sign up. Registration is required and c
 loses 24 hours prior to start time.
X-WR-RELCALID:3874012068045e5c4739f4a30fda4f64
X-WR-TIMEZONE:America/New_York
BEGIN:VTIMEZONE
TZID:America/New_York
BEGIN:STANDARD
TZNAME:EST
DTSTART:20251102T020000
TZOFFSETFROM:-0400
TZOFFSETTO:-0500
RDATE:20261101T020000
RDATE:20271107T020000
END:STANDARD
BEGIN:DAYLIGHT
TZNAME:EDT
DTSTART:20260308T020000
TZOFFSETFROM:-0500
TZOFFSETTO:-0400
RDATE:20270314T020000
END:DAYLIGHT
END:VTIMEZONE
BEGIN:VEVENT
UID:924d124c-6521-4483-aadb-d709b34a0c94
DTSTAMP:20260423T103944Z
DESCRIPTION:Discover habits and strategies to build financial confidence an
 d stability. This workshop is perfect for beginners or anyone looking to g
 et back to basics.\n\nSee link to sign up. Registration is required and cl
 oses 24 hours prior to start time.
DTSTART;TZID=America/New_York:20260527T173000
DTEND;TZID=America/New_York:20260527T190000
LOCATION:Location: Wherever you are!
SUMMARY:Money Foundations (In-person)
END:VEVENT
END:VCALENDAR
