BEGIN:VCALENDAR
VERSION:2.0
PRODID:-//ontrackwnc.org//NONSGML kigkonsult.se iCalcreator 2.30.10//
CALSCALE:GREGORIAN
METHOD:PUBLISH
UID:e08dc61c-b318-4fda-a655-d541a616ad39
X-WR-CALDESC:Join us to demystify debt in a shame-free\, nonjudgmental spac
 e. It’s never too late to face your money and make a plan to manage\, pay 
 down\, or resolve personal debt.\n\nSee link to sign up. Registration is r
 equired and closes 24 hours prior to start time.
X-WR-RELCALID:d3796fdca627264e226ffae96e0f483a
X-WR-TIMEZONE:America/New_York
BEGIN:VTIMEZONE
TZID:America/New_York
BEGIN:STANDARD
TZNAME:EST
DTSTART:20251102T020000
TZOFFSETFROM:-0400
TZOFFSETTO:-0500
RDATE:20261101T020000
RDATE:20271107T020000
END:STANDARD
BEGIN:DAYLIGHT
TZNAME:EDT
DTSTART:20260308T020000
TZOFFSETFROM:-0500
TZOFFSETTO:-0400
RDATE:20270314T020000
END:DAYLIGHT
END:VTIMEZONE
BEGIN:VEVENT
UID:5424c7fc-84eb-44bf-8e21-a6426923aea1
DTSTAMP:20260422T105757Z
DESCRIPTION:Join us to demystify debt in a shame-free\, nonjudgmental space
 . It’s never too late to face your money and make a plan to manage\, pay d
 own\, or resolve personal debt.\n\nSee link to sign up. Registration is re
 quired and closes 24 hours prior to start time.
DTSTART;TZID=America/New_York:20260529T120000
DTEND;TZID=America/New_York:20260529T133000
LOCATION:Location: Wherever you are!
SUMMARY:Dealing with Debt (Zoom)
END:VEVENT
END:VCALENDAR
