BEGIN:VCALENDAR
VERSION:2.0
PRODID:-//ontrackwnc.org//NONSGML kigkonsult.se iCalcreator 2.30.10//
CALSCALE:GREGORIAN
METHOD:PUBLISH
UID:12000bbc-57d3-4ef6-b3b1-b28db859171e
X-WR-CALDESC:Envision resilience and identify habits that encourage financi
 al wellness in this interactive and fun workshop. This is a shame-free spa
 ce to set your money intentions!\n\nSee link to sign up. Registration is r
 equired and closes 24 hours prior to start time.
X-WR-RELCALID:9647160f767806ef04abd6599873669e
X-WR-TIMEZONE:America/New_York
BEGIN:VTIMEZONE
TZID:America/New_York
BEGIN:STANDARD
TZNAME:EST
DTSTART:20251102T020000
TZOFFSETFROM:-0400
TZOFFSETTO:-0500
RDATE:20261101T020000
RDATE:20271107T020000
END:STANDARD
BEGIN:DAYLIGHT
TZNAME:EDT
DTSTART:20260308T020000
TZOFFSETFROM:-0500
TZOFFSETTO:-0400
RDATE:20270314T020000
END:DAYLIGHT
END:VTIMEZONE
BEGIN:VEVENT
UID:b4ba5a64-a7ac-4fbd-b420-a0acce515ddb
DTSTAMP:20260423T013844Z
DESCRIPTION:Envision resilience and identify habits that encourage financia
 l wellness in this interactive and fun workshop. This is a shame-free spac
 e to set your money intentions!\n\nSee link to sign up. Registration is re
 quired and closes 24 hours prior to start time.
DTSTART;TZID=America/New_York:20260603T173000
DTEND;TZID=America/New_York:20260603T190000
LOCATION:50 S. French Broad Ave.\, Suite 222\, Asheville\, AL 28801 US
SUMMARY:Money Visioning & Goal Setting (In-person)
END:VEVENT
END:VCALENDAR
