BEGIN:VCALENDAR
VERSION:2.0
PRODID:-//ontrackwnc.org//NONSGML kigkonsult.se iCalcreator 2.30.10//
CALSCALE:GREGORIAN
METHOD:PUBLISH
UID:7592522f-2031-48f0-9d9b-b1c545c26bef
X-WR-CALDESC:Discover habits and strategies to build financial confidence a
 nd stability. This workshop is perfect for beginners or anyone looking to 
 get back to basics.\n\nSee link to sign up. Registration is required and c
 loses 24 hours prior to start time.
X-WR-RELCALID:aa1421c0c08bbc008de3294202c1becd
X-WR-TIMEZONE:America/New_York
BEGIN:VTIMEZONE
TZID:America/New_York
BEGIN:STANDARD
TZNAME:EST
DTSTART:20251102T020000
TZOFFSETFROM:-0400
TZOFFSETTO:-0500
RDATE:20261101T020000
RDATE:20271107T020000
END:STANDARD
BEGIN:DAYLIGHT
TZNAME:EDT
DTSTART:20260308T020000
TZOFFSETFROM:-0500
TZOFFSETTO:-0400
RDATE:20270314T020000
END:DAYLIGHT
END:VTIMEZONE
BEGIN:VEVENT
UID:d592161b-594c-4abf-8148-3eaab5ddc483
DTSTAMP:20260425T010704Z
DESCRIPTION:Discover habits and strategies to build financial confidence an
 d stability. This workshop is perfect for beginners or anyone looking to g
 et back to basics.\n\nSee link to sign up. Registration is required and cl
 oses 24 hours prior to start time.
DTSTART;TZID=America/New_York:20260604T153000
DTEND;TZID=America/New_York:20260604T170000
LOCATION:Location: Wherever you are!
SUMMARY:Money Foundations (Zoom)
END:VEVENT
END:VCALENDAR
