BEGIN:VCALENDAR
VERSION:2.0
PRODID:-//ontrackwnc.org//NONSGML kigkonsult.se iCalcreator 2.30.10//
CALSCALE:GREGORIAN
METHOD:PUBLISH
UID:4e3c7f1b-b2fd-4f77-9523-3fffb6be4853
X-WR-CALDESC:Join us to demystify debt in a shame-free\, nonjudgmental spac
 e. It’s never too late to face your money and make a plan to manage\, pay 
 down\, or resolve personal debt.\n\nSee link to sign up. Registration is r
 equired and closes 24 hours prior to start time.
X-WR-RELCALID:76f797c825f7591f83578a98fb7a583c
X-WR-TIMEZONE:America/New_York
BEGIN:VTIMEZONE
TZID:America/New_York
BEGIN:STANDARD
TZNAME:EST
DTSTART:20251102T020000
TZOFFSETFROM:-0400
TZOFFSETTO:-0500
RDATE:20261101T020000
RDATE:20271107T020000
END:STANDARD
BEGIN:DAYLIGHT
TZNAME:EDT
DTSTART:20260308T020000
TZOFFSETFROM:-0500
TZOFFSETTO:-0400
RDATE:20270314T020000
END:DAYLIGHT
END:VTIMEZONE
BEGIN:VEVENT
UID:f8787e45-ca15-49c9-9c7c-f1285d18a146
DTSTAMP:20260423T014633Z
DESCRIPTION:Join us to demystify debt in a shame-free\, nonjudgmental space
 . It’s never too late to face your money and make a plan to manage\, pay d
 own\, or resolve personal debt.\n\nSee link to sign up. Registration is re
 quired and closes 24 hours prior to start time.
DTSTART;TZID=America/New_York:20260608T173000
DTEND;TZID=America/New_York:20260608T190000
LOCATION:50 S. French Broad Ave.\, Suite 222\, Asheville\, AL 28801 US
SUMMARY:Dealing with Debt (In-Person)
END:VEVENT
END:VCALENDAR
