BEGIN:VCALENDAR
VERSION:2.0
PRODID:-//ontrackwnc.org//NONSGML kigkonsult.se iCalcreator 2.30.10//
CALSCALE:GREGORIAN
METHOD:PUBLISH
UID:be6b148c-6327-4e68-ac24-ccd60351d78c
X-WR-CALDESC:Want to learn more about your credit score and what it means f
 or you? Let’s take a closer look together. \n\nVisit OnTrack WNC for a fre
 e FICO® credit report (a $53 value) with credit scores from Experian\, Equ
 ifax\, and TransUnion. Plus\, a mini session with a certified financial co
 unselor to review your score and plan next steps. \n\nWalk-in event. No ap
 pointment needed—and no impact on your credit! \n
X-WR-RELCALID:af7e764c5a8bffa17c3a0d69818729cf
X-WR-TIMEZONE:America/Chicago
BEGIN:VTIMEZONE
TZID:America/Chicago
BEGIN:STANDARD
TZNAME:CST
DTSTART:20251102T020000
TZOFFSETFROM:-0500
TZOFFSETTO:-0600
RDATE:20261101T020000
RDATE:20271107T020000
END:STANDARD
BEGIN:DAYLIGHT
TZNAME:CDT
DTSTART:20260308T020000
TZOFFSETFROM:-0600
TZOFFSETTO:-0500
RDATE:20270314T020000
END:DAYLIGHT
END:VTIMEZONE
BEGIN:VEVENT
UID:1943d2b8-f540-4ac0-8935-381711ef864c
DTSTAMP:20260423T014914Z
DESCRIPTION:Want to learn more about your credit score and what it means fo
 r you? Let’s take a closer look together. \n\nVisit OnTrack WNC for a free
  FICO® credit report (a $53 value) with credit scores from Experian\, Equi
 fax\, and TransUnion. Plus\, a mini session with a certified financial cou
 nselor to review your score and plan next steps. \n\nWalk-in event. No app
 ointment needed—and no impact on your credit! \n
DTSTART;TZID=America/Chicago:20260611T120000
DTEND;TZID=America/Chicago:20260611T140000
LOCATION:50 S. French Broad Ave.\, Suite 222\, Asheville\, NC 28801 US
SUMMARY:Credit Awareness Day ⭐
END:VEVENT
END:VCALENDAR
