BEGIN:VCALENDAR
VERSION:2.0
PRODID:-//ontrackwnc.org//NONSGML kigkonsult.se iCalcreator 2.30.10//
CALSCALE:GREGORIAN
METHOD:PUBLISH
UID:124cbd08-2c8a-4b6a-a439-01e6dc956146
X-WR-CALDESC:Envision resilience and identify habits that encourage financi
 al wellness in this interactive and fun workshop. This is a shame-free spa
 ce to set your money intentions!\n\nSee link to sign up. Registration is r
 equired and closes 24 hours prior to start time.
X-WR-RELCALID:b74e1fc622ac5dc217d927755b22b53d
X-WR-TIMEZONE:America/New_York
BEGIN:VTIMEZONE
TZID:America/New_York
BEGIN:STANDARD
TZNAME:EST
DTSTART:20251102T020000
TZOFFSETFROM:-0400
TZOFFSETTO:-0500
RDATE:20261101T020000
RDATE:20271107T020000
END:STANDARD
BEGIN:DAYLIGHT
TZNAME:EDT
DTSTART:20260308T020000
TZOFFSETFROM:-0500
TZOFFSETTO:-0400
RDATE:20270314T020000
END:DAYLIGHT
END:VTIMEZONE
BEGIN:VEVENT
UID:c2e06f25-da3a-4f59-83bf-3beb30129b66
DTSTAMP:20260423T014454Z
DESCRIPTION:Envision resilience and identify habits that encourage financia
 l wellness in this interactive and fun workshop. This is a shame-free spac
 e to set your money intentions!\n\nSee link to sign up. Registration is re
 quired and closes 24 hours prior to start time.
DTSTART;TZID=America/New_York:20260616T120000
DTEND;TZID=America/New_York:20260616T133000
LOCATION:Location: Wherever you are!
SUMMARY:Money Visioning & Goal Setting (Zoom)
END:VEVENT
END:VCALENDAR
