BEGIN:VCALENDAR
VERSION:2.0
PRODID:-//ontrackwnc.org//NONSGML kigkonsult.se iCalcreator 2.30.10//
CALSCALE:GREGORIAN
METHOD:PUBLISH
UID:96f20c63-6f2e-4cd1-a391-4568ce322306
X-WR-CALDESC:Juneteenth\n\nOur office is closed today\, in observance of Ju
 neteenth. Please send us an email at info@ontrackwnc.org or a send us voic
 email at 828.255.5166. We will be reopening our office on Tuesday\, June 2
 3rd.
X-WR-RELCALID:eba317eeda0787b887805361375552f5
X-WR-TIMEZONE:America/Chicago
BEGIN:VTIMEZONE
TZID:America/Chicago
BEGIN:STANDARD
TZNAME:CST
DTSTART:20251102T020000
TZOFFSETFROM:-0500
TZOFFSETTO:-0600
RDATE:20261101T020000
RDATE:20271107T020000
END:STANDARD
BEGIN:DAYLIGHT
TZNAME:CDT
DTSTART:20260308T020000
TZOFFSETFROM:-0600
TZOFFSETTO:-0500
RDATE:20270314T020000
END:DAYLIGHT
END:VTIMEZONE
BEGIN:VEVENT
UID:e155abe2-bde0-4cbc-8854-dedb9d499555
DTSTAMP:20260423T014516Z
DESCRIPTION:Juneteenth\n\nOur office is closed today\, in observance of Jun
 eteenth. Please send us an email at info@ontrackwnc.org or a send us voice
 mail at 828.255.5166. We will be reopening our office on Tuesday\, June 23
 rd.
DTSTART;TZID=America/Chicago:20260619T050000
DTEND;TZID=America/Chicago:20260619T050001
LOCATION:
SUMMARY:Office Closed
END:VEVENT
END:VCALENDAR
