BEGIN:VCALENDAR
VERSION:2.0
PRODID:-//ontrackwnc.org//NONSGML kigkonsult.se iCalcreator 2.30.10//
CALSCALE:GREGORIAN
METHOD:PUBLISH
UID:b28465bb-dfa5-44b4-b0f6-d4da1c7e2e29
X-WR-CALDESC:Discover habits and strategies to build financial confidence a
 nd stability. This workshop is perfect for beginners or anyone looking to 
 get back to basics.\n\nSee link to sign up. Registration is required and c
 loses 24 hours prior to start time.
X-WR-RELCALID:2ceb24871b108ae216486b4097499e77
X-WR-TIMEZONE:America/New_York
BEGIN:VTIMEZONE
TZID:America/New_York
BEGIN:STANDARD
TZNAME:EST
DTSTART:20251102T020000
TZOFFSETFROM:-0400
TZOFFSETTO:-0500
RDATE:20261101T020000
RDATE:20271107T020000
END:STANDARD
BEGIN:DAYLIGHT
TZNAME:EDT
DTSTART:20260308T020000
TZOFFSETFROM:-0500
TZOFFSETTO:-0400
RDATE:20270314T020000
END:DAYLIGHT
END:VTIMEZONE
BEGIN:VEVENT
UID:4aced675-9962-4303-8180-9ce3a453ee83
DTSTAMP:20260425T125813Z
DESCRIPTION:Discover habits and strategies to build financial confidence an
 d stability. This workshop is perfect for beginners or anyone looking to g
 et back to basics.\n\nSee link to sign up. Registration is required and cl
 oses 24 hours prior to start time.
DTSTART;TZID=America/New_York:20260624T173000
DTEND;TZID=America/New_York:20260624T190000
LOCATION:Location: Wherever you are!
SUMMARY:Money Foundations (In-person)
END:VEVENT
END:VCALENDAR
